BEGIN:VCALENDAR
PRODID:-//eluceo/ical//2.0/EN
VERSION:2.0
CALSCALE:GREGORIAN
BEGIN:VEVENT
UID:f165f6054b01e2422b6146564a828c7d
DTSTAMP:20260421T100258Z
SUMMARY:Plauderlunch auf dem Schlosshof
DESCRIPTION:
URL:https://rotary-arlesheim.ch/it/agenda/show/100263
DTSTART;TZID=Europe/Zurich:20190731T121500
DTEND;TZID=Europe/Zurich:20190731T133000
LOCATION:Schlosshof Dornach
CATEGORIES:Rotary
END:VEVENT
BEGIN:VTIMEZONE
TZID:Europe/Zurich
BEGIN:DAYLIGHT
DTSTART:20190731T121500
TZNAME:CEST
TZOFFSETTO:+0200
TZOFFSETFROM:+0200
END:DAYLIGHT
END:VTIMEZONE
END:VCALENDAR
