BEGIN:VCALENDAR
PRODID:-//eluceo/ical//2.0/EN
VERSION:2.0
CALSCALE:GREGORIAN
BEGIN:VEVENT
UID:51645106a65ded29d1b0446bb5cf365e
DTSTAMP:20260421T085423Z
SUMMARY:Plauderlunch
DESCRIPTION:
URL:https://rotary-arlesheim.ch/it/agenda/show/100479
DTSTART;TZID=Europe/Zurich:20190925T121500
DTEND;TZID=Europe/Zurich:20190925T133000
LOCATION:Gasthof zum Ochsen
CATEGORIES:Rotary
END:VEVENT
BEGIN:VTIMEZONE
TZID:Europe/Zurich
BEGIN:DAYLIGHT
DTSTART:20190925T121500
TZNAME:CEST
TZOFFSETTO:+0200
TZOFFSETFROM:+0200
END:DAYLIGHT
END:VTIMEZONE
END:VCALENDAR
