BEGIN:VCALENDAR
PRODID:-//eluceo/ical//2.0/EN
VERSION:2.0
CALSCALE:GREGORIAN
BEGIN:VEVENT
UID:c53a2b9484f76b3e53ccd8357a9f127d
DTSTAMP:20260421T090450Z
SUMMARY:Plauderlunch
DESCRIPTION:
URL:https://rotary-arlesheim.ch/it/agenda/show/100482
DTSTART;TZID=Europe/Zurich:20191023T121500
DTEND;TZID=Europe/Zurich:20191023T133000
LOCATION:Gasthof zum Ochsen
CATEGORIES:Rotary
END:VEVENT
BEGIN:VTIMEZONE
TZID:Europe/Zurich
BEGIN:DAYLIGHT
DTSTART:20191023T121500
TZNAME:CEST
TZOFFSETTO:+0200
TZOFFSETFROM:+0200
END:DAYLIGHT
END:VTIMEZONE
END:VCALENDAR
