BEGIN:VCALENDAR
PRODID:-//eluceo/ical//2.0/EN
VERSION:2.0
CALSCALE:GREGORIAN
BEGIN:VEVENT
UID:aed5a151d48bf9732a79fb7d91268df3
DTSTAMP:20260419T124404Z
SUMMARY:Präsentationen der Arbeitsgruppen Mare Nostrum
DESCRIPTION:Die Arbeitsgruppen des Projektes MARE NOSTRUM präsentieren ihr
 e Projektideen dem Club.
URL:https://rotary-arlesheim.ch/it/agenda/show/100489
DTSTART;TZID=Europe/Zurich:20191106T121500
DTEND;TZID=Europe/Zurich:20191106T133000
LOCATION:Gasthof zum Ochsen
CATEGORIES:Rotary
END:VEVENT
BEGIN:VTIMEZONE
TZID:Europe/Zurich
BEGIN:STANDARD
DTSTART:20191106T121500
TZNAME:CET
TZOFFSETTO:+0100
TZOFFSETFROM:+0100
END:STANDARD
END:VTIMEZONE
END:VCALENDAR
